Workbook

Sheet 2020年月度统计
A1: 废物管理记录表 (2020) 单位（吨）
A2: 日期 | B2: 产生数量 | C2: 自行处置数量 | D2: 委托利用、处置情况 | F2: 累计贮存数量 | G2: 备注 | H2: 填表人
D3: 委托利用数量 | E3: 委托处置数量
A4: 1月份
A5: 2月份
A6: 3月份
A7: 4月份
A8: 5月份
A9: 6月份
A10: 7月份 | B10: 0 | E10: 0 | F10: 0 | H10: 方剑其
A11: 8月份 | B11: 0 | E11: 0 | F11: 0 | H11: 方剑其
A12: 9月份 | B12: 0 | E12: 0 | F12: 0 | H12: 方剑其
A13: 10月份 | B13: 0 | E13: 0 | F13: 0 | H13: 方剑其
A14: 11月份 | B14: ='2020年研磨乳化液过滤产生的铁屑'!B353 -> 0 | E14: ='2020年研磨乳化液过滤产生的铁屑'!E353 -> 0 | F14: ='2020年研磨乳化液过滤产生的铁屑'!F354 -> 0 | H14: 诸美娟
A15: 12月份 | B15: ='2020年研磨乳化液过滤产生的铁屑'!B385 -> 0 | E15: ='2020年研磨乳化液过滤产生的铁屑'!E385 -> 0 | F15: ='2020年研磨乳化液过滤产生的铁屑'!F385 -> 0 | H15: 诸美娟
A16: 合计 | B16: =SUM(B4:B15) -> 0 | E16: =SUM(E4:E15) -> 0 | F16: =F15 -> 0
A18: 2020年7月3日份开始统计 研磨乳化液过滤产生的铁屑（新增）

Sheet 2021年研磨乳化液过滤产生的铁屑 
A1: 废物管理记录表 单位（吨）
A2: 日期 | B2: 产生数量 | C2: 自行处置数量 | D2: 委托利用、处置情况 | F2: 累计贮存数量 | G2: 备注 | H2: 填表人
D3: 委托利用数量 | E3: 委托处置数量
A4: 43831
A5: 43832
A6: 43833
A7: 43834
A8: 43835
A9: 43836
A10: 43837
A11: 43838
A12: 43839
A13: 43840
A14: 43841
A15: 43842
... A34: 43861
A35: 合计 | I35: 研磨乳化液过滤产生的铁屑
A36: 43862
A37: 43863
A38: 43864
A39: 43865
A40: 43866
A41: 43867
A42: 43868
A43: 43869
A44: 43870
A45: 43871
A46: 43872
A47: 43873
... A64: 43890
A65: 合计
A66: 43891
A67: 43892
A68: 43893
A69: 43894
A70: 43895
A71: 43896
A72: 43897
A73: 43898
A74: 43899
...

Sheet 2021年月度统计 
A1: 废物管理记录表 (2021) 单位（吨）
A2: 日期 | B2: 产生数量 | C2: 自行处置数量 | D2: 委托利用、处置情况 | F2: 累计贮存数量 | G2: 备注 | H2: 填表人
D3: 委托利用数量 | E3: 委托处置数量
A4: 1月份 | B4: ='2021年研磨乳化液过滤产生的铁屑 '!B225 -> 0.818 | E4: 0 | F4: ='2021年研磨乳化液过滤产生的铁屑 '!F225 -> 0.818 | H4: 诸美娟
A5: 2月份 | B5: ='2021年研磨乳化液过滤产生的铁屑 '!B257 -> 0 | E5: 0 | F5: ='2021年研磨乳化液过滤产生的铁屑 '!F257 -> 0.818 | H5: 诸美娟
A6: 3月份 | B6: ='2021年研磨乳化液过滤产生的铁屑 '!B289 -> 0.259 | E6: ='2021年研磨乳化液过滤产生的铁屑 '!E289 -> 0 | F6: ='2021年研磨乳化液过滤产生的铁屑 '!F289 -> 1.077 | H6: 诸美娟
A7: 4月份 | B7: ='2021年研磨乳化液过滤产生的铁屑 '!B321 -> 0 | E7: ='2021年研磨乳化液过滤产生的铁屑 '!E321 -> 0 | F7: ='2021年研磨乳化液过滤产生的铁屑 '!F321 -> 1.077 | H7: 诸美娟
A8: 5月份 | B8: ='2021年研磨乳化液过滤产生的铁屑 '!B353 -> 0 | E8: ='2021年研磨乳化液过滤产生的铁屑 '!E353 -> 0 | F8: ='2021年研磨乳化液过滤产生的铁屑 '!F353 -> 1.077 | H8: 诸美娟
A9: 6月份 | B9: ='2021年研磨乳化液过滤产生的铁屑 '!B385 -> 0 | E9: ='2021年研磨乳化液过滤产生的铁屑 '!E385 -> 0 | F9: ='2021年研磨乳化液过滤产生的铁屑 '!F385 -> 1.077 | H9: 诸美娟
A10: 7月份 | B10: ='2021年研磨乳化液过滤产生的铁屑 '!B417 -> 0.283 | E10: ='2021年研磨乳化液过滤产生的铁屑 '!E417 -> 1.36 | F10: ='2021年研磨乳化液过滤产生的铁屑 '!F417 -> 0 | G10: 嘉兴市众源环境科技有限公司 | H10: 诸美娟
A11: 8月份 | B11: ='2021年研磨乳化液过滤产生的铁屑 '!B449 -> 0 | E11: ='2021年研磨乳化液过滤产生的铁屑 '!E449 -> 0 | F11: ='2021年研磨乳化液过滤产生的铁屑 '!F449 -> 0 | H11: 诸美娟
A12: 9月份 | B12: ='2021年研磨乳化液过滤产生的铁屑 '!B480 -> 0 | E12: ='2021年研磨乳化液过滤产生的铁屑 '!E480 -> 0 | F12: ='2021年研磨乳化液过滤产生的铁屑 '!F480 -> 0 | H12: 诸美娟
A13: 10月份 | B13: 0 | E13: 0 | F13: 0 | H13: 诸美娟
A14: 11月份 | B14: ='2021年研磨乳化液过滤产生的铁屑 '!B544 -> 0 | E14: ='2021年研磨乳化液过滤产生的铁屑 '!E544 -> 0 | F14: ='2021年研磨乳化液过滤产生的铁屑 '!F544 -> 0 | H14: 诸美娟
A15: 12月份 | B15: ='2021年研磨乳化液过滤产生的铁屑 '!B576 -> 0 | E15: ='2021年研磨乳化液过滤产生的铁屑 '!D576 -> 0 | F15: ='2021年研磨乳化液过滤产生的铁屑 '!F576 -> 0 | H15: 诸美娟
A16: 合计 | B16: =SUM(B4:B15) -> 1.36 | E16: =SUM(E4:E15) -> 1.36 | F16: =F14 -> 0
A18: 2020年7月3日份开始统计 研磨乳化液过滤产生的铁屑（新增）

Sheet 2022年研磨乳化液过滤产生的铁屑 
A1: 废物管理记录表 单位（吨）
A2: 日期 | B2: 产生数量 | C2: 自行处置数量 | D2: 委托利用、处置情况 | F2: 累计贮存数量 | G2: 备注 | H2: 填表人
D3: 委托利用数量 | E3: 委托处置数量
A4: 43831
A5: 43832
A6: 43833
A7: 43834
A8: 43835
A9: 43836
A10: 43837
A11: 43838
A12: 43839
A13: 43840
A14: 43841
A15: 43842
... A34: 43861
A35: 合计 | I35: 研磨乳化液过滤产生的铁屑
A36: 43862
A37: 43863
A38: 43864
A39: 43865
A40: 43866
A41: 43867
A42: 43868
A43: 43869
A44: 43870
A45: 43871
A46: 43872
A47: 43873
... A64: 43890
A65: 合计
A66: 43891
A67: 43892
A68: 43893
A69: 43894
A70: 43895
A71: 43896
A72: 43897
A73: 43898
A74: 43899
...

Sheet 2022年月度统计  
A1: 废物管理记录表 (2022) 单位（吨）
A2: 日期 | B2: 产生数量 | C2: 自行处置数量 | D2: 委托利用、处置情况 | F2: 累计贮存数量 | G2: 备注 | H2: 填表人
D3: 委托利用数量 | E3: 委托处置数量 | I3: 0
A4: 1月份 | B4: 0 | D4: 0 | E4: 0 | F4: 0 | H4: 诸美娟
A5: 2月份 | B5: ='2022年研磨乳化液过滤产生的铁屑 '!B257 -> 0 | D5: 0 | E5: ='2022年研磨乳化液过滤产生的铁屑 '!E257 -> 0 | F5: ='2022年研磨乳化液过滤产生的铁屑 '!F257 -> 0 | H5: 诸美娟
A6: 3月份 | B6: ='2022年研磨乳化液过滤产生的铁屑 '!B289 -> 0 | D6: 0 | E6: ='2022年研磨乳化液过滤产生的铁屑 '!E289 -> 0 | F6: ='2022年研磨乳化液过滤产生的铁屑 '!F289 -> 0 | H6: 诸美娟
A7: 4月份 | B7: ='2022年研磨乳化液过滤产生的铁屑 '!B320 -> 0.711 | D7: 0 | E7: ='2022年研磨乳化液过滤产生的铁屑 '!E320 -> 0 | F7: ='2022年研磨乳化液过滤产生的铁屑 '!F320 -> 0.711 | H7: 诸美娟
A8: 5月份 | B8: ='2022年研磨乳化液过滤产生的铁屑 '!B352 -> 0 | D8: 0 | E8: ='2022年研磨乳化液过滤产生的铁屑 '!E352 -> 0 | F8: ='2022年研磨乳化液过滤产生的铁屑 '!F352 -> 0.711 | H8: 诸美娟
A9: 6月份 | B9: ='2022年研磨乳化液过滤产生的铁屑 '!B384 -> 0 | D9: 0 | E9: ='2022年研磨乳化液过滤产生的铁屑 '!E384 -> 0 | F9: ='2022年研磨乳化液过滤产生的铁屑 '!F384 -> 0.711 | H9: 诸美娟
A10: 7月份 | B10: ='2022年研磨乳化液过滤产生的铁屑 '!B416 -> 0 | D10: 0 | E10: ='2022年研磨乳化液过滤产生的铁屑 '!E416 -> 0 | F10: ='2022年研磨乳化液过滤产生的铁屑 '!F416 -> 0.711 | H10: 诸美娟
A11: 8月份 | B11: ='2022年研磨乳化液过滤产生的铁屑 '!B448 -> 1.137 | D11: 0 | E11: ='2022年研磨乳化液过滤产生的铁屑 '!E448 -> 0 | F11: ='2022年研磨乳化液过滤产生的铁屑 '!F448 -> 1.848 | H11: 诸美娟
A12: 9月份 | B12: ='2022年研磨乳化液过滤产生的铁屑 '!B479 -> 0 | D12: 0 | E12: ='2022年研磨乳化液过滤产生的铁屑 '!E479 -> 0 | F12: ='2022年研磨乳化液过滤产生的铁屑 '!F479 -> 1.848 | H12: 诸美娟
A13: 10月份 | B13: ='2022年研磨乳化液过滤产生的铁屑 '!B511 -> 0 | D13: 0 | E13: ='2022年研磨乳化液过滤产生的铁屑 '!E511 -> 0 | F13: ='2022年研磨乳化液过滤产生的铁屑 '!F511 -> 1.848 | H13: 诸美娟
A14: 11月份 | B14: ='2022年研磨乳化液过滤产生的铁屑 '!B543 -> 1.232 | D14: ='2022年研磨乳化液过滤产生的铁屑 '!D543 -> 0 | E14: ='2022年研磨乳化液过滤产生的铁屑 '!E543 -> 3.08 | F14: ='2022年研磨乳化液过滤产生的铁屑 '!F543 -> 0 | G14: 嘉兴市众源环境科技有限公司 | H14: 诸美娟/方剑其
A15: 12月份 | B15: ='2022年研磨乳化液过滤产生的铁屑 '!B575 -> 0 | D15: ='2022年研磨乳化液过滤产生的铁屑 '!D575 -> 0 | E15: ='2022年研磨乳化液过滤产生的铁屑 '!E575 -> 0 | F15: ='2022年研磨乳化液过滤产生的铁屑 '!F575 -> 0 | H15: 诸美娟
A16: 合计 | B16: =SUM(B4:B15) -> 3.08 | D16: =SUM(D4:D15) -> 0 | E16: =SUM(E4:E15) -> 3.08 | F16: =F14 -> 0
A18: 2020年7月3日份开始统计 研磨乳化液过滤产生的铁屑（新增）

Sheet 2023年研磨乳化液过滤产生的铁屑  
A1: 废物管理记录表 单位（吨）
A2: 日期 | B2: 产生数量 | C2: 自行处置数量 | D2: 委托利用、处置情况 | F2: 累计贮存数量 | G2: 备注 | H2: 填表人
D3: 委托利用数量 | E3: 委托处置数量 | I3: 0
A4: 43831
A5: 43832
A6: 43833
A7: 43834
A8: 43835
A9: 43836
A10: 43837
A11: 43838
A12: 43839
A13: 43840
A14: 43841
A15: 43842
... A34: 43861
A35: 合计 | I35: 研磨乳化液过滤产生的铁屑
A36: 43862
A37: 43863
A38: 43864
A39: 43865
A40: 43866
A41: 43867
A42: 43868
A43: 43869
A44: 43870
A45: 43871
A46: 43872
A47: 43873
... A64: 43890
A65: 合计
A66: 43891
A67: 43892
A68: 43893
A69: 43894
A70: 43895
A71: 43896
A72: 43897
A73: 43898
A74: 43899
...

Sheet 2023年月度统计   
A1: 废物管理记录表 (2023) 单位（吨）
A2: 日期 | B2: 产生数量 | C2: 自行处置数量 | D2: 委托利用、处置情况 | F2: 累计贮存数量 | G2: 备注 | H2: 填表人
D3: 委托利用数量 | E3: 委托处置数量 | I3: 0
A4: 1月份 | B4: ='2023年研磨乳化液过滤产生的铁屑 '!B225 -> 0 | E4: ='2023年研磨乳化液过滤产生的铁屑 '!E225 -> 0 | F4: ='2023年研磨乳化液过滤产生的铁屑 '!F225 -> 0 | H4: 诸美娟
A5: 2月份 | B5: ='2023年研磨乳化液过滤产生的铁屑 '!B257 -> 1.4 | E5: ='2023年研磨乳化液过滤产生的铁屑 '!E257 -> 0 | F5: ='2023年研磨乳化液过滤产生的铁屑 '!F257 -> 1.4 | H5: 诸美娟
A6: 3月份 | B6: ='2023年研磨乳化液过滤产生的铁屑 '!B289 -> 0 | E6: ='2023年研磨乳化液过滤产生的铁屑 '!E289 -> 0 | F6: ='2023年研磨乳化液过滤产生的铁屑 '!F289 -> 1.4 | H6: 诸美娟
A7: 4月份 | B7: ='2023年研磨乳化液过滤产生的铁屑 '!B320 -> 0 | E7: ='2023年研磨乳化液过滤产生的铁屑 '!E320 -> 0 | F7: ='2023年研磨乳化液过滤产生的铁屑 '!F320 -> 1.4 | H7: 诸美娟
A8: 5月份 | B8: ='2023年研磨乳化液过滤产生的铁屑 '!B352 -> 0 | E8: ='2023年研磨乳化液过滤产生的铁屑 '!E352 -> 0 | F8: ='2023年研磨乳化液过滤产生的铁屑 '!F352 -> 1.4 | H8: 诸美娟
A9: 6月份 | B9: ='2023年研磨乳化液过滤产生的铁屑 '!B384 -> 1.05 | E9: ='2023年研磨乳化液过滤产生的铁屑 '!E384 -> 2.45 | F9: ='2023年研磨乳化液过滤产生的铁屑 '!F384 -> 0 | G9: 嘉兴市众源环境科技有限公司 | H9: 诸美娟
A10: 7月份 | B10: ='2023年研磨乳化液过滤产生的铁屑 '!B416 -> 0 | E10: ='2023年研磨乳化液过滤产生的铁屑 '!E416 -> 0 | F10: ='2023年研磨乳化液过滤产生的铁屑 '!F416 -> 0 | H10: 诸美娟
A11: 8月份
A12: 9月份
A13: 10月份
A14: 11月份
A15: 12月份
A16: 合计 | B16: =SUM(B4:B15) -> 2.45 | D16: =SUM(D4:D15) -> 0 | E16: =SUM(E4:E15) -> 2.45 | F16: =F10 -> 0
A18: 2020年7月3日份开始统计 研磨乳化液过滤产生的铁屑（新增）

Sheet 空白表
A1: 废物管理记录表 单位（吨）
A2: 日期 | B2: 产生数量 | C2: 自行处置数量 | D2: 委托利用、处置情况 | F2: 累计贮存数量 | G2: 备注 | H2: 填表人
D3: 委托利用数量 | E3: 委托处置数量

Sheet Sheet1
B3: 研 磨 乳 化 液 过 滤 产 生 的 铁 屑

Sheet Sheet2
A1: 废物管理记录表 (2022) 单位（吨）
A2: 日期 | B2: 产生数量 | C2: 自行处置数量 | D2: 委托利用、处置情况 | F2: 累计贮存数量 | G2: 备注 | H2: 转运人 | I2: 接收人
D3: 委托利用数量 | E3: 委托处置数量
A16: 合计
